BEGIN:VCALENDAR
VERSION:2.0
PRODID:-//Tukios.com/
BEGIN:VEVENT
UID:199f4aa0-4c6a-482c-94b0-f2815acd5e1d@www.littlesfuneralhome.com
DTSTAMP:20260420T193827Z
DTSTART:20260425T170000Z
DTEND:20260425T180000Z
SUMMARY:Memorial Service
DESCRIPTION:
URL:https://www.littlesfuneralhome.com/obituaries/tracy-evans
LOCATION: 18420 Battery Park Rd  Smithfield VA 23430
GEO:36.9740386;-76.6027744
END:VEVENT
END:VCALENDAR